Workbook

Sheet Read me
A1: Sales and cash dashboard (demo)
A2: Fictional distributor, 600 orders in 2026. Built to show a dashboard that updates itself when data changes.
A4: How to use
A5: 1. Paste new orders at the bottom of the table on 'Data' (columns A to I). Columns J to M calculate themselves.
A6: 2. Change margins and monthly targets on 'Settings' (blue cells).
A7: 3. On 'Dashboard', choose a region in the yellow cell C5. Every figure, table and chart follows.
A9: Legend
A10: Blue text = input you can change. Yellow fill = the selector. Black = formula (do not type over).
A11: Assumption: a single region's monthly target is the company target divided by 4.

Sheet Data
A1: Order ID | B1: Order date | C1: Region | D1: Sales rep | E1: Category | F1: Units | G1: Unit price ($) | H1: Paid | I1: Days to pay | J1: Month | K1: Revenue ($) | L1: Cost ($) | M1: Gross profit ($)
A2: SO-10097 | B2: 46023 | C2: North | D2: Liam Chen | E2: Packaging | F2: 244 | G2: 3.41 | H2: Yes | I2: 16 | J2: =DATE(YEAR(B2),MONTH(B2),1) -> 46023 | K2: =F2*G2 -> 832.04 | L2: =K2*(1-INDEX(Settings!$B$5:$B$9,MATCH(E2,Settings!$A$5:$A$9,0))) -> 648.9912 | M2: =K2-L2 -> 183.0488
A3: SO-10349 | B3: 46023 | C3: North | D3: Liam Chen | E3: Fasteners | F3: 304 | G3: 1.33 | H3: Yes | I3: 34 | J3: =DATE(YEAR(B3),MONTH(B3),1) -> 46023 | K3: =F3*G3 -> 404.32 | L3: =K3*(1-INDEX(Settings!$B$5:$B$9,MATCH(E3,Settings!$A$5:$A$9,0))) -> 234.5056 | M3: =K3-L3 -> 169.8144
A4: SO-10489 | B4: 46023 | C4: East | D4: Ella Novak | E4: Tools | F4: 43 | G4: 41.1 | H4: Yes | I4: 47 | J4: =DATE(YEAR(B4),MONTH(B4),1) -> 46023 | K4: =F4*G4 -> 1767.3 | L4: =K4*(1-INDEX(Settings!$B$5:$B$9,MATCH(E4,Settings!$A$5:$A$9,0))) -> 1219.437 | M4: =K4-L4 -> 547.863
A5: SO-10063 | B5: 46024 | C5: East | D5: Ella Novak | E5: Safety gear | F5: 36 | G5: 17 | H5: Yes | I5: 42 | J5: =DATE(YEAR(B5),MONTH(B5),1) -> 46023 | K5: =F5*G5 -> 612 | L5: =K5*(1-INDEX(Settings!$B$5:$B$9,MATCH(E5,Settings!$A$5:$A$9,0))) -> 379.44 | M5: =K5-L5 -> 232.56
A6: SO-10071 | B6: 46024 | C6: West | D6: Owen Hart | E6: Packaging | F6: 279 | G6: 0.5 | H6: Yes | I6: 63 | J6: =DATE(YEAR(B6),MONTH(B6),1) -> 46023 | K6: =F6*G6 -> 139.5 | L6: =K6*(1-INDEX(Settings!$B$5:$B$9,MATCH(E6,Settings!$A$5:$A$9,0))) -> 108.81 | M6: =K6-L6 -> 30.69
A7: SO-10081 | B7: 46024 | C7: West | D7: Owen Hart | E7: Electrical | F7: 20 | G7: 44.72 | H7: Yes | I7: 51 | J7: =DATE(YEAR(B7),MONTH(B7),1) -> 46023 | K7: =F7*G7 -> 894.4 | L7: =K7*(1-INDEX(Settings!$B$5:$B$9,MATCH(E7,Settings!$A$5:$A$9,0))) -> 652.912 | M7: =K7-L7 -> 241.488
A8: SO-10201 | B8: 46025 | C8: South | D8: Noah Reyes | E8: Packaging | F8: 305 | G8: 2.67 | H8: Yes | I8: 32 | J8: =DATE(YEAR(B8),MONTH(B8),1) -> 46023 | K8: =F8*G8 -> 814.35 | L8: =K8*(1-INDEX(Settings!$B$5:$B$9,MATCH(E8,Settings!$A$5:$A$9,0))) -> 635.193 | M8: =K8-L8 -> 179.157
A9: SO-10443 | B9: 46025 | C9: South | D9: Noah Reyes | E9: Packaging | F9: 378 | G9: 1.44 | H9: Yes | I9: 28 | J9: =DATE(YEAR(B9),MONTH(B9),1) -> 46023 | K9: =F9*G9 -> 544.32 | L9: =K9*(1-INDEX(Settings!$B$5:$B$9,MATCH(E9,Settings!$A$5:$A$9,0))) -> 424.5696 | M9: =K9-L9 -> 119.7504
A10: SO-10138 | B10: 46026 | C10: West | D10: Owen Hart | E10: Electrical | F10: 8 | G10: 49.94 | H10: Yes | I10: 49 | J10: =DATE(YEAR(B10),MONTH(B10),1) -> 46023 | K10: =F10*G10 -> 399.52 | L10: =K10*(1-INDEX(Settings!$B$5:$B$9,MATCH(E10,Settings!$A$5:$A$9,0))) -> 291.6496 | M10: =K10-L10 -> 107.8704
A11: SO-10455 | B11: 46026 | C11: South | D11: Noah Reyes | E11: Electrical | F11: 34 | G11: 40.97 | H11: Yes | I11: 69 | J11: =DATE(YEAR(B11),MONTH(B11),1) -> 46023 | K11: =F11*G11 -> 1392.98 | L11: =K11*(1-INDEX(Settings!$B$5:$B$9,MATCH(E11,Settings!$A$5:$A$9,0))) -> 1016.8754 | M11: =K11-L11 -> 376.1046
A12: SO-10166 | B12: 46028 | C12: North | D12: Liam Chen | E12: Packaging | F12: 335 | G12: 2.11 | H12: Yes | I12: 69 | J12: =DATE(YEAR(B12),MONTH(B12),1) -> 46023 | K12: =F12*G12 -> 706.85 | L12: =K12*(1-INDEX(Settings!$B$5:$B$9,MATCH(E12,Settings!$A$5:$A$9,0))) -> 551.343 | M12: =K12-L12 -> 155.507
A13: SO-10503 | B13: 46028 | C13: East | D13: Ella Novak | E13: Electrical | F13: 3 | G13: 8.93 | H13: Yes | I13: 68 | J13: =DATE(YEAR(B13),MONTH(B13),1) -> 46023 | K13: =F13*G13 -> 26.79 | L13: =K13*(1-INDEX(Settings!$B$5:$B$9,MATCH(E13,Settings!$A$5:$A$9,0))) -> 19.5567 | M13: =K13-L13 -> 7.2333
... A33: SO-10378 | B33: 46037 | C33: South | D33: Maya Patel | E33: Electrical | F33: 45 | G33: 8.77 | H33: Yes | I33: 50 | J33: =DATE(YEAR(B33),MONTH(B33),1) -> 46023 | K33: =F33*G33 -> 394.65 | L33: =K33*(1-INDEX(Settings!$B$5:$B$9,MATCH(E33,Settings!$A$5:$A$9,0))) -> 288.0945 | M33: =K33-L33 -> 106.5555
A34: SO-10582 | B34: 46037 | C34: East | D34: Ella Novak | E34: Fasteners | F34: 88 | G34: 1.13 | H34: No | J34: =DATE(YEAR(B34),MONTH(B34),1) -> 46023 | K34: =F34*G34 -> 99.44 | L34: =K34*(1-INDEX(Settings!$B$5:$B$9,MATCH(E34,Settings!$A$5:$A$9,0))) -> 57.6752 | M34: =K34-L34 -> 41.7648
A35: SO-10301 | B35: 46038 | C35: South | D35: Noah Reyes | E35: Tools | F35: 13 | G35: 57.46 | H35: Yes | I35: 53 | J35: =DATE(YEAR(B35),MONTH(B35),1) -> 46023 | K35: =F35*G35 -> 746.98 | L35: =K35*(1-INDEX(Settings!$B$5:$B$9,MATCH(E35,Settings!$A$5:$A$9,0))) -> 515.4162 | M35: =K35-L35 -> 231.5638
A36: SO-10600 | B36: 46038 | C36: South | D36: Maya Patel | E36: Tools | F36: 49 | G36: 47.58 | H36: Yes | I36: 63 | J36: =DATE(YEAR(B36),MONTH(B36),1) -> 46023 | K36: =F36*G36 -> 2331.42 | L36: =K36*(1-INDEX(Settings!$B$5:$B$9,MATCH(E36,Settings!$A$5:$A$9,0))) -> 1608.6798 | M36: =K36-L36 -> 722.7402
A37: SO-10225 | B37: 46040 | C37: South | D37: Noah Reyes | E37: Tools | F37: 22 | G37: 25.27 | H37: Yes | I37: 46 | J37: =DATE(YEAR(B37),MONTH(B37),1) -> 46023 | K37: =F37*G37 -> 555.94 | L37: =K37*(1-INDEX(Settings!$B$5:$B$9,MATCH(E37,Settings!$A$5:$A$9,0))) -> 383.5986 | M37: =K37-L37 -> 172.3414
A38: SO-10390 | B38: 46040 | C38: South | D38: Noah Reyes | E38: Safety gear | F38: 13 | G38: 29.59 | H38: Yes | I38: 59 | J38: =DATE(YEAR(B38),MONTH(B38),1) -> 46023 | K38: =F38*G38 -> 384.67 | L38: =K38*(1-INDEX(Settings!$B$5:$B$9,MATCH(E38,Settings!$A$5:$A$9,0))) -> 238.4954 | M38: =K38-L38 -> 146.1746
A39: SO-10523 | B39: 46040 | C39: East | D39: Ella Novak | E39: Tools | F39: 1 | G39: 91.38 | H39: No | J39: =DATE(YEAR(B39),MONTH(B39),1) -> 46023 | K39: =F39*G39 -> 91.38 | L39: =K39*(1-INDEX(Settings!$B$5:$B$9,MATCH(E39,Settings!$A$5:$A$9,0))) -> 63.0522 | M39: =K39-L39 -> 28.3278
A40: SO-10057 | B40: 46041 | C40: North | D40: Ava Brooks | E40: Packaging | F40: 287 | G40: 3.43 | H40: Yes | I40: 34 | J40: =DATE(YEAR(B40),MONTH(B40),1) -> 46023 | K40: =F40*G40 -> 984.41 | L40: =K40*(1-INDEX(Settings!$B$5:$B$9,MATCH(E40,Settings!$A$5:$A$9,0))) -> 767.8398 | M40: =K40-L40 -> 216.5702
A41: SO-10394 | B41: 46041 | C41: North | D41: Ava Brooks | E41: Packaging | F41: 335 | G41: 2.44 | H41: Yes | I41: 63 | J41: =DATE(YEAR(B41),MONTH(B41),1) -> 46023 | K41: =F41*G41 -> 817.4 | L41: =K41*(1-INDEX(Settings!$B$5:$B$9,MATCH(E41,Settings!$A$5:$A$9,0))) -> 637.572 | M41: =K41-L41 -> 179.828
A42: SO-10492 | B42: 46041 | C42: North | D42: Ava Brooks | E42: Packaging | F42: 301 | G42: 0.52 | H42: Yes | I42: 19 | J42: =DATE(YEAR(B42),MONTH(B42),1) -> 46023 | K42: =F42*G42 -> 156.52 | L42: =K42*(1-INDEX(Settings!$B$5:$B$9,MATCH(E42,Settings!$A$5:$A$9,0))) -> 122.0856 | M42: =K42-L42 -> 34.4344
A43: SO-10133 | B43: 46042 | C43: South | D43: Maya Patel | E43: Safety gear | F43: 27 | G43: 29.06 | H43: Yes | I43: 42 | J43: =DATE(YEAR(B43),MONTH(B43),1) -> 46023 | K43: =F43*G43 -> 784.62 | L43: =K43*(1-INDEX(Settings!$B$5:$B$9,MATCH(E43,Settings!$A$5:$A$9,0))) -> 486.4644 | M43: =K43-L43 -> 298.1556
A44: SO-10205 | B44: 46042 | C44: East | D44: Ella Novak | E44: Tools | F44: 46 | G44: 78.2 | H44: No | J44: =DATE(YEAR(B44),MONTH(B44),1) -> 46023 | K44: =F44*G44 -> 3597.2 | L44: =K44*(1-INDEX(Settings!$B$5:$B$9,MATCH(E44,Settings!$A$5:$A$9,0))) -> 2482.068 | M44: =K44-L44 -> 1115.132
A45: SO-10435 | B45: 46042 | C45: South | D45: Maya Patel | E45: Packaging | F45: 225 | G45: 2.5 | H45: Yes | I45: 9 | J45: =DATE(YEAR(B45),MONTH(B45),1) -> 46023 | K45: =F45*G45 -> 562.5 | L45: =K45*(1-INDEX(Settings!$B$5:$B$9,MATCH(E45,Settings!$A$5:$A$9,0))) -> 438.75 | M45: =K45-L45 -> 123.75
A46: SO-10569 | B46: 46042 | C46: West | D46: Owen Hart | E46: Electrical | F46: 16 | G46: 56.71 | H46: No | J46: =DATE(YEAR(B46),MONTH(B46),1) -> 46023 | K46: =F46*G46 -> 907.36 | L46: =K46*(1-INDEX(Settings!$B$5:$B$9,MATCH(E46,Settings!$A$5:$A$9,0))) -> 662.3728 | M46: =K46-L46 -> 244.9872
A47: SO-10502 | B47: 46044 | C47: South | D47: Maya Patel | E47: Safety gear | F47: 22 | G47: 8.86 | H47: Yes | I47: 26 | J47: =DATE(YEAR(B47),MONTH(B47),1) -> 46023 | K47: =F47*G47 -> 194.92 | L47: =K47*(1-INDEX(Settings!$B$5:$B$9,MATCH(E47,Settings!$A$5:$A$9,0))) -> 120.8504 | M47: =K47-L47 -> 74.0696
A48: SO-10068 | B48: 46045 | C48: West | D48: Owen Hart | E48: Packaging | F48: 390 | G48: 1.86 | H48: Yes | I48: 5 | J48: =DATE(YEAR(B48),MONTH(B48),1) -> 46023 | K48: =F48*G48 -> 725.4 | L48: =K48*(1-INDEX(Settings!$B$5:$B$9,MATCH(E48,Settings!$A$5:$A$9,0))) -> 565.812 | M48: =K48-L48 -> 159.588
A49: SO-10556 | B49: 46045 | C49: South | D49: Noah Reyes | E49: Electrical | F49: 58 | G49: 5.65 | H49: Yes | I49: 16 | J49: =DATE(YEAR(B49),MONTH(B49),1) -> 46023 | K49: =F49*G49 -> 327.7 | L49: =K49*(1-INDEX(Settings!$B$5:$B$9,MATCH(E49,Settings!$A$5:$A$9,0))) -> 239.221 | M49: =K49-L49 -> 88.479
A50: SO-10180 | B50: 46046 | C50: North | D50: Liam Chen | E50: Tools | F50: 53 | G50: 91.5 | H50: Yes | I50: 11 | J50: =DATE(YEAR(B50),MONTH(B50),1) -> 46023 | K50: =F50*G50 -> 4849.5 | L50: =K50*(1-INDEX(Settings!$B$5:$B$9,MATCH(E50,Settings!$A$5:$A$9,0))) -> 3346.155 | M50: =K50-L50 -> 1503.345
A51: SO-10414 | B51: 46046 | C51: North | D51: Liam Chen | E51: Electrical | F51: 39 | G51: 26.38 | H51: No | J51: =DATE(YEAR(B51),MONTH(B51),1) -> 46023 | K51: =F51*G51 -> 1028.82 | L51: =K51*(1-INDEX(Settings!$B$5:$B$9,MATCH(E51,Settings!$A$5:$A$9,0))) -> 751.0386 | M51: =K51-L51 -> 277.7814
A52: SO-10431 | B52: 46046 | C52: West | D52: Owen Hart | E52: Electrical | F52: 56 | G52: 11.83 | H52: No | J52: =DATE(YEAR(B52),MONTH(B52),1) -> 46023 | K52: =F52*G52 -> 662.48 | L52: =K52*(1-INDEX(Settings!$B$5:$B$9,MATCH(E52,Settings!$A$5:$A$9,0))) -> 483.6104 | M52: =K52-L52 -> 178.8696
A53: SO-10157 | B53: 46047 | C53: East | D53: Ella Novak | E53: Packaging | F53: 271 | G53: 2.11 | H53: No | J53: =DATE(YEAR(B53),MONTH(B53),1) -> 46023 | K53: =F53*G53 -> 571.81 | L53: =K53*(1-INDEX(Settings!$B$5:$B$9,MATCH(E53,Settings!$A$5:$A$9,0))) -> 446.0118 | M53: =K53-L53 -> 125.7982
A54: SO-10184 | B54: 46047 | C54: East | D54: Ella Novak | E54: Packaging | F54: 262 | G54: 1.77 | H54: Yes | I54: 6 | J54: =DATE(YEAR(B54),MONTH(B54),1) -> 46023 | K54: =F54*G54 -> 463.74 | L54: =K54*(1-INDEX(Settings!$B$5:$B$9,MATCH(E54,Settings!$A$5:$A$9,0))) -> 361.7172 | M54: =K54-L54 -> 102.0228
A55: SO-10262 | B55: 46047 | C55: East | D55: Ella Novak | E55: Fasteners | F55: 56 | G55: 0.77 | H55: Yes | I55: 28 | J55: =DATE(YEAR(B55),MONTH(B55),1) -> 46023 | K55: =F55*G55 -> 43.12 | L55: =K55*(1-INDEX(Settings!$B$5:$B$9,MATCH(E55,Settings!$A$5:$A$9,0))) -> 25.0096 | M55: =K55-L55 -> 18.1104
A56: SO-10369 | B56: 46048 | C56: South | D56: Noah Reyes | E56: Electrical | F56: 32 | G56: 44.92 | H56: No | J56: =DATE(YEAR(B56),MONTH(B56),1) -> 46023 | K56: =F56*G56 -> 1437.44 | L56: =K56*(1-INDEX(Settings!$B$5:$B$9,MATCH(E56,Settings!$A$5:$A$9,0))) -> 1049.3312 | M56: =K56-L56 -> 388.1088
A57: SO-10480 | B57: 46048 | C57: West | D57: Owen Hart | E57: Safety gear | F57: 46 | G57: 36.8 | H57: Yes | I57: 22 | J57: =DATE(YEAR(B57),MONTH(B57),1) -> 46023 | K57: =F57*G57 -> 1692.8 | L57: =K57*(1-INDEX(Settings!$B$5:$B$9,MATCH(E57,Settings!$A$5:$A$9,0))) -> 1049.536 | M57: =K57-L57 -> 643.264
A58: SO-10290 | B58: 46049 | C58: East | D58: Ella Novak | E58: Electrical | F58: 16 | G58: 50.96 | H58: Yes | I58: 44 | J58: =DATE(YEAR(B58),MONTH(B58),1) -> 46023 | K58: =F58*G58 -> 815.36 | L58: =K58*(1-INDEX(Settings!$B$5:$B$9,MATCH(E58,Settings!$A$5:$A$9,0))) -> 595.2128 | M58: =K58-L58 -> 220.1472
A59: SO-10508 | B59: 46050 | C59: West | D59: Owen Hart | E59: Electrical | F59: 25 | G59: 50.21 | H59: Yes | I59: 68 | J59: =DATE(YEAR(B59),MONTH(B59),1) -> 46023 | K59: =F59*G59 -> 1255.25 | L59: =K59*(1-INDEX(Settings!$B$5:$B$9,MATCH(E59,Settings!$A$5:$A$9,0))) -> 916.3325 | M59: =K59-L59 -> 338.9175
...

Sheet Settings
A1: Settings (blue cells are inputs you can change)
A3: Product margin by category | D3: Monthly revenue target ($)
A4: Category | B4: Gross margin | D4: Month | E4: Target ($)
A5: Fasteners | B5: 0.42 | D5: 46023 | E5: 36000
A6: Tools | B6: 0.31 | D6: 46054 | E6: 38000
A7: Safety gear | B7: 0.38 | D7: 46082 | E7: 40000
A8: Electrical | B8: 0.27 | D8: 46113 | E8: 42000
A9: Packaging | B9: 0.22 | D9: 46143 | E9: 44000
D10: 46174 | E10: 46000
D11: 46204 | E11: 36000
A12: Source: demo assumptions for a fictional distributor (not real company data). | D12: 46235 | E12: 38000
D13: 46266 | E13: 40000
D14: 46296 | E14: 42000
D15: 46327 | E15: 44000
D16: 46357 | E16: 46000

Sheet Dashboard
B2: Sales and cash dashboard 2026
B3: Harbor Supply Co. (fictional demo data). Pick a region in C5; everything below updates.
B5: Region | C5: All | D5: <- choose All, North, South, East or West
B7: Key figures | E7: By month
B8: Revenue | C8: =SUMPRODUCT((((Data!$C$2:$C$601=$C$5)+($C$5="All"))>0)*Data!$K$2:$K$601) -> 497188.43 | E8: Month | F8: Revenue ($) | G8: Target ($) | H8: Variance ($) | I8: % of target | J8: Gross profit ($)
B9: Gross profit | C9: =SUMPRODUCT((((Data!$C$2:$C$601=$C$5)+($C$5="All"))>0)*Data!$M$2:$M$601) -> 154231.07 | E9: =Settings!D5 -> 46023 | F9: =SUMPRODUCT((((Data!$C$2:$C$601=$C$5)+($C$5="All"))>0)*(Data!$J$2:$J$601=E9)*Data!$K$2:$K$601) -> 63869.7 | G9: =IF($C$5="All",Settings!E5,Settings!E5/4) -> 36000 | H9: =F9-G9 -> 27869.7 | I9: =IF(G9=0,0,F9/G9) -> 1.7741583 | J9: =SUMPRODUCT((((Data!$C$2:$C$601=$C$5)+($C$5="All"))>0)*(Data!$J$2:$J$601=E9)*Data!$M$2:$M$601) -> 18713.19
B10: Gross margin | C10: =IF(C8=0,0,C9/C8) -> 0.31020648 | E10: =Settings!D6 -> 46054 | F10: =SUMPRODUCT((((Data!$C$2:$C$601=$C$5)+($C$5="All"))>0)*(Data!$J$2:$J$601=E10)*Data!$K$2:$K$601) -> 27483.32 | G10: =IF($C$5="All",Settings!E6,Settings!E6/4) -> 38000 | H10: =F10-G10 -> -10516.68 | I10: =IF(G10=0,0,F10/G10) -> 0.72324526 | J10: =SUMPRODUCT((((Data!$C$2:$C$601=$C$5)+($C$5="All"))>0)*(Data!$J$2:$J$601=E10)*Data!$M$2:$M$601) -> 8869.0067
B11: Orders | C11: =SUMPRODUCT((((Data!$C$2:$C$601=$C$5)+($C$5="All"))>0)*1) -> 600 | E11: =Settings!D7 -> 46082 | F11: =SUMPRODUCT((((Data!$C$2:$C$601=$C$5)+($C$5="All"))>0)*(Data!$J$2:$J$601=E11)*Data!$K$2:$K$601) -> 46797.05 | G11: =IF($C$5="All",Settings!E7,Settings!E7/4) -> 40000 | H11: =F11-G11 -> 6797.05 | I11: =IF(G11=0,0,F11/G11) -> 1.1699263 | J11: =SUMPRODUCT((((Data!$C$2:$C$601=$C$5)+($C$5="All"))>0)*(Data!$J$2:$J$601=E11)*Data!$M$2:$M$601) -> 14678.27
B12: Average order | C12: =IF(C11=0,0,C8/C11) -> 828.64738 | E12: =Settings!D8 -> 46113 | F12: =SUMPRODUCT((((Data!$C$2:$C$601=$C$5)+($C$5="All"))>0)*(Data!$J$2:$J$601=E12)*Data!$K$2:$K$601) -> 41527.23 | G12: =IF($C$5="All",Settings!E8,Settings!E8/4) -> 42000 | H12: =F12-G12 -> -472.77 | I12: =IF(G12=0,0,F12/G12) -> 0.98874357 | J12: =SUMPRODUCT((((Data!$C$2:$C$601=$C$5)+($C$5="All"))>0)*(Data!$J$2:$J$601=E12)*Data!$M$2:$M$601) -> 12712.203
B13: Unpaid amount | C13: =SUMPRODUCT((((Data!$C$2:$C$601=$C$5)+($C$5="All"))>0)*(Data!$H$2:$H$601="No")*Data!$K$2:$K$601) -> 65832.35 | E13: =Settings!D9 -> 46143 | F13: =SUMPRODUCT((((Data!$C$2:$C$601=$C$5)+($C$5="All"))>0)*(Data!$J$2:$J$601=E13)*Data!$K$2:$K$601) -> 28635.21 | G13: =IF($C$5="All",Settings!E9,Settings!E9/4) -> 44000 | H13: =F13-G13 -> -15364.79 | I13: =IF(G13=0,0,F13/G13) -> 0.65080023 | J13: =SUMPRODUCT((((Data!$C$2:$C$601=$C$5)+($C$5="All"))>0)*(Data!$J$2:$J$601=E13)*Data!$M$2:$M$601) -> 9197.7143
B14: Average days to pay | C14: =IF(SUMPRODUCT((((Data!$C$2:$C$601=$C$5)+($C$5="All"))>0)*(Data!$H$2:$H$601="Yes"))=0,0,SUMPRODUCT((((Data!$C$2:$C$601=$C$5)+($C$5="All"))>0)*(Data!$H$2:$H$601="Yes")*Data!$I$2:$I$601)/SUMPRODUCT((((Data!$C$2:$C$601=$C$5)+($C$5="All"))>0)*(Data!$H$2:$H$601="Yes"))) -> 37.978764 | E14: =Settings!D10 -> 46174 | F14: =SUMPRODUCT((((Data!$C$2:$C$601=$C$5)+($C$5="All"))>0)*(Data!$J$2:$J$601=E14)*Data!$K$2:$K$601) -> 39960.34 | G14: =IF($C$5="All",Settings!E10,Settings!E10/4) -> 46000 | H14: =F14-G14 -> -6039.66 | I14: =IF(G14=0,0,F14/G14) -> 0.86870304 | J14: =SUMPRODUCT((((Data!$C$2:$C$601=$C$5)+($C$5="All"))>0)*(Data!$J$2:$J$601=E14)*Data!$M$2:$M$601) -> 12683.718
E15: =Settings!D11 -> 46204 | F15: =SUMPRODUCT((((Data!$C$2:$C$601=$C$5)+($C$5="All"))>0)*(Data!$J$2:$J$601=E15)*Data!$K$2:$K$601) -> 40165.45 | G15: =IF($C$5="All",Settings!E11,Settings!E11/4) -> 36000 | H15: =F15-G15 -> 4165.45 | I15: =IF(G15=0,0,F15/G15) -> 1.1157069 | J15: =SUMPRODUCT((((Data!$C$2:$C$601=$C$5)+($C$5="All"))>0)*(Data!$J$2:$J$601=E15)*Data!$M$2:$M$601) -> 12336.326
E16: =Settings!D12 -> 46235 | F16: =SUMPRODUCT((((Data!$C$2:$C$601=$C$5)+($C$5="All"))>0)*(Data!$J$2:$J$601=E16)*Data!$K$2:$K$601) -> 48071.45 | G16: =IF($C$5="All",Settings!E12,Settings!E12/4) -> 38000 | H16: =F16-G16 -> 10071.45 | I16: =IF(G16=0,0,F16/G16) -> 1.2650382 | J16: =SUMPRODUCT((((Data!$C$2:$C$601=$C$5)+($C$5="All"))>0)*(Data!$J$2:$J$601=E16)*Data!$M$2:$M$601) -> 14983.348
E17: =Settings!D13 -> 46266 | F17: =SUMPRODUCT((((Data!$C$2:$C$601=$C$5)+($C$5="All"))>0)*(Data!$J$2:$J$601=E17)*Data!$K$2:$K$601) -> 39279.43 | G17: =IF($C$5="All",Settings!E13,Settings!E13/4) -> 40000 | H17: =F17-G17 -> -720.57 | I17: =IF(G17=0,0,F17/G17) -> 0.98198575 | J17: =SUMPRODUCT((((Data!$C$2:$C$601=$C$5)+($C$5="All"))>0)*(Data!$J$2:$J$601=E17)*Data!$M$2:$M$601) -> 11961.256
E18: =Settings!D14 -> 46296 | F18: =SUMPRODUCT((((Data!$C$2:$C$601=$C$5)+($C$5="All"))>0)*(Data!$J$2:$J$601=E18)*Data!$K$2:$K$601) -> 37259.99 | G18: =IF($C$5="All",Settings!E14,Settings!E14/4) -> 42000 | H18: =F18-G18 -> -4740.01 | I18: =IF(G18=0,0,F18/G18) -> 0.88714262 | J18: =SUMPRODUCT((((Data!$C$2:$C$601=$C$5)+($C$5="All"))>0)*(Data!$J$2:$J$601=E18)*Data!$M$2:$M$601) -> 11283.757
E19: =Settings!D15 -> 46327 | F19: =SUMPRODUCT((((Data!$C$2:$C$601=$C$5)+($C$5="All"))>0)*(Data!$J$2:$J$601=E19)*Data!$K$2:$K$601) -> 30872.16 | G19: =IF($C$5="All",Settings!E15,Settings!E15/4) -> 44000 | H19: =F19-G19 -> -13127.84 | I19: =IF(G19=0,0,F19/G19) -> 0.70164 | J19: =SUMPRODUCT((((Data!$C$2:$C$601=$C$5)+($C$5="All"))>0)*(Data!$J$2:$J$601=E19)*Data!$M$2:$M$601) -> 9755.3204
E20: =Settings!D16 -> 46357 | F20: =SUMPRODUCT((((Data!$C$2:$C$601=$C$5)+($C$5="All"))>0)*(Data!$J$2:$J$601=E20)*Data!$K$2:$K$601) -> 53267.1 | G20: =IF($C$5="All",Settings!E16,Settings!E16/4) -> 46000 | H20: =F20-G20 -> 7267.1 | I20: =IF(G20=0,0,F20/G20) -> 1.1579804 | J20: =SUMPRODUCT((((Data!$C$2:$C$601=$C$5)+($C$5="All"))>0)*(Data!$J$2:$J$601=E20)*Data!$M$2:$M$601) -> 17056.964
E21: Total | F21: =SUM(F9:F20) -> 497188.43 | G21: =SUM(G9:G20) -> 492000 | H21: =SUM(H9:H20) -> 5188.43 | I21: =IF(G21=0,0,F21/G21) -> 1.0105456 | J21: =SUM(J9:J20) -> 154231.07
E22: Target for one region = company target / 4 (assumption, change on Settings if regions differ).
B24: By category | F24: Sales reps
B25: Category | C25: Revenue ($) | D25: Share | F25: Rep | G25: Region | H25: Revenue ($) | I25: Rank
B26: Fasteners | C26: =SUMPRODUCT((((Data!$C$2:$C$601=$C$5)+($C$5="All"))>0)*(Data!$E$2:$E$601=B26)*Data!$K$2:$K$601) -> 25962.59 | D26: =IF($C$8=0,0,C26/$C$8) -> 0.052218814 | F26: Ava Brooks | G26: North | H26: =SUMPRODUCT((((Data!$C$2:$C$601=$C$5)+($C$5="All"))>0)*(Data!$D$2:$D$601=F26)*Data!$K$2:$K$601) -> 76671.08 | I26: =IF(H26=0,"-",RANK(H26,$H$26:$H$31)) -> 4
B27: Tools | C27: =SUMPRODUCT((((Data!$C$2:$C$601=$C$5)+($C$5="All"))>0)*(Data!$E$2:$E$601=B27)*Data!$K$2:$K$601) -> 229392.71 | D27: =IF($C$8=0,0,C27/$C$8) -> 0.46137982 | F27: Liam Chen | G27: North | H27: =SUMPRODUCT((((Data!$C$2:$C$601=$C$5)+($C$5="All"))>0)*(Data!$D$2:$D$601=F27)*Data!$K$2:$K$601) -> 78954.69 | I27: =IF(H27=0,"-",RANK(H27,$H$26:$H$31)) -> 3
B28: Safety gear | C28: =SUMPRODUCT((((Data!$C$2:$C$601=$C$5)+($C$5="All"))>0)*(Data!$E$2:$E$601=B28)*Data!$K$2:$K$601) -> 83390.48 | D28: =IF($C$8=0,0,C28/$C$8) -> 0.1677241 | F28: Maya Patel | G28: South | H28: =SUMPRODUCT((((Data!$C$2:$C$601=$C$5)+($C$5="All"))>0)*(Data!$D$2:$D$601=F28)*Data!$K$2:$K$601) -> 61518.58 | I28: =IF(H28=0,"-",RANK(H28,$H$26:$H$31)) -> 5
B29: Electrical | C29: =SUMPRODUCT((((Data!$C$2:$C$601=$C$5)+($C$5="All"))>0)*(Data!$E$2:$E$601=B29)*Data!$K$2:$K$601) -> 113385.62 | D29: =IF($C$8=0,0,C29/$C$8) -> 0.22805362 | F29: Noah Reyes | G29: South | H29: =SUMPRODUCT((((Data!$C$2:$C$601=$C$5)+($C$5="All"))>0)*(Data!$D$2:$D$601=F29)*Data!$K$2:$K$601) -> 54988.88 | I29: =IF(H29=0,"-",RANK(H29,$H$26:$H$31)) -> 6
B30: Packaging | C30: =SUMPRODUCT((((Data!$C$2:$C$601=$C$5)+($C$5="All"))>0)*(Data!$E$2:$E$601=B30)*Data!$K$2:$K$601) -> 45057.03 | D30: =IF($C$8=0,0,C30/$C$8) -> 0.090623649 | F30: Ella Novak | G30: East | H30: =SUMPRODUCT((((Data!$C$2:$C$601=$C$5)+($C$5="All"))>0)*(Data!$D$2:$D$601=F30)*Data!$K$2:$K$601) -> 116297.95 | I30: =IF(H30=0,"-",RANK(H30,$H$26:$H$31)) -> 1
F31: Owen Hart | G31: West | H31: =SUMPRODUCT((((Data!$C$2:$C$601=$C$5)+($C$5="All"))>0)*(Data!$D$2:$D$601=F31)*Data!$K$2:$K$601) -> 108757.25 | I31: =IF(H31=0,"-",RANK(H31,$H$26:$H$31)) -> 2
